BEGIN:VCALENDAR
VERSION:2.0
PRODID:-//Grundschule Biberach - ECPv6.10.0//NONSGML v1.0//EN
CALSCALE:GREGORIAN
METHOD:PUBLISH
X-ORIGINAL-URL:https://gsbiberach.de
X-WR-CALDESC:Veranstaltungen für Grundschule Biberach
REFRESH-INTERVAL;VALUE=DURATION:PT1H
X-Robots-Tag:noindex
X-PUBLISHED-TTL:PT1H
BEGIN:VTIMEZONE
TZID:Europe/Berlin
BEGIN:DAYLIGHT
TZOFFSETFROM:+0100
TZOFFSETTO:+0200
TZNAME:CEST
DTSTART:20260329T010000
END:DAYLIGHT
BEGIN:STANDARD
TZOFFSETFROM:+0200
TZOFFSETTO:+0100
TZNAME:CET
DTSTART:20261025T010000
END:STANDARD
END:VTIMEZONE
BEGIN:VEVENT
DTSTART;VALUE=DATE:20260503
DTEND;VALUE=DATE:20260504
DTSTAMP:20260421T233833
CREATED:20251010T084854Z
LAST-MODIFIED:20251010T084902Z
UID:3115-1777766400-1777852799@gsbiberach.de
SUMMARY:Kommunion
DESCRIPTION:
URL:https://gsbiberach.de/kalender/kommunion/
END:VEVENT
BEGIN:VEVENT
DTSTART;VALUE=DATE:20260504
DTEND;VALUE=DATE:20260505
DTSTAMP:20260421T233833
CREATED:20251016T055744Z
LAST-MODIFIED:20251016T055744Z
UID:3149-1777852800-1777939199@gsbiberach.de
SUMMARY:Fahrt nach Eckbolsheim Kl. 4b
DESCRIPTION:
URL:https://gsbiberach.de/kalender/fahrt-nach-eckbolsheim-kl-4b/
END:VEVENT
BEGIN:VEVENT
DTSTART;TZID=Europe/Berlin:20260505T074500
DTEND;TZID=Europe/Berlin:20260505T083000
DTSTAMP:20260421T233833
CREATED:20251001T082738Z
LAST-MODIFIED:20251001T082738Z
UID:3068-1777967100-1777969800@gsbiberach.de
SUMMARY:Schülergottesdienst
DESCRIPTION:
URL:https://gsbiberach.de/kalender/schuelergottesdienst-50/
END:VEVENT
BEGIN:VEVENT
DTSTART;VALUE=DATE:20260507
DTEND;VALUE=DATE:20260508
DTSTAMP:20260421T233833
CREATED:20251016T055807Z
LAST-MODIFIED:20251016T055807Z
UID:3151-1778112000-1778198399@gsbiberach.de
SUMMARY:Fahrt nach Eckbolsheim Kl. 4a
DESCRIPTION:
URL:https://gsbiberach.de/kalender/fahrt-nach-eckbolsheim-kl-4a/
END:VEVENT
BEGIN:VEVENT
DTSTART;VALUE=DATE:20260512
DTEND;VALUE=DATE:20260513
DTSTAMP:20260421T233833
CREATED:20251015T071605Z
LAST-MODIFIED:20251015T071605Z
UID:3141-1778544000-1778630399@gsbiberach.de
SUMMARY:Pausenfrühstück Kl. 4a
DESCRIPTION:
URL:https://gsbiberach.de/kalender/pausenfruehstueck-kl-4a-2/
END:VEVENT
BEGIN:VEVENT
DTSTART;TZID=Europe/Berlin:20260512T080000
DTEND;TZID=Europe/Berlin:20260512T131500
DTSTAMP:20260421T233833
CREATED:20260416T052629Z
LAST-MODIFIED:20260416T052629Z
UID:3495-1778572800-1778591700@gsbiberach.de
SUMMARY:Ausflug Vogtsbauernhof Kl. 1a und 1b
DESCRIPTION:
URL:https://gsbiberach.de/kalender/ausflug-vogtsbauernhof-kl-1a-und-1b/
END:VEVENT
BEGIN:VEVENT
DTSTART;TZID=Europe/Berlin:20260519T074500
DTEND;TZID=Europe/Berlin:20260519T083000
DTSTAMP:20260421T233833
CREATED:20251001T082807Z
LAST-MODIFIED:20251001T082807Z
UID:3070-1779176700-1779179400@gsbiberach.de
SUMMARY:Schülergottesdienst
DESCRIPTION:
URL:https://gsbiberach.de/kalender/schuelergottesdienst-51/
END:VEVENT
BEGIN:VEVENT
DTSTART;VALUE=DATE:20260521
DTEND;VALUE=DATE:20260522
DTSTAMP:20260421T233833
CREATED:20251016T055925Z
LAST-MODIFIED:20251016T055925Z
UID:3155-1779321600-1779407999@gsbiberach.de
SUMMARY:Besuch von Colmar Kl. 4b
DESCRIPTION:
URL:https://gsbiberach.de/kalender/besuch-von-colmar-kl-4b/
END:VEVENT
BEGIN:VEVENT
DTSTART;VALUE=DATE:20260526
DTEND;VALUE=DATE:20260606
DTSTAMP:20260421T233833
CREATED:20251010T081624Z
LAST-MODIFIED:20251010T081624Z
UID:3096-1779753600-1780703999@gsbiberach.de
SUMMARY:Pfingstferien
DESCRIPTION:
URL:https://gsbiberach.de/kalender/pfingstferien-5/
END:VEVENT
END:VCALENDAR