BEGIN:VCALENDAR
VERSION:2.0
PRODID:-//Grundschule Biberach - ECPv6.10.0//NONSGML v1.0//EN
CALSCALE:GREGORIAN
METHOD:PUBLISH
X-ORIGINAL-URL:https://gsbiberach.de
X-WR-CALDESC:Veranstaltungen für Grundschule Biberach
REFRESH-INTERVAL;VALUE=DURATION:PT1H
X-Robots-Tag:noindex
X-PUBLISHED-TTL:PT1H
BEGIN:VTIMEZONE
TZID:Europe/Berlin
BEGIN:DAYLIGHT
TZOFFSETFROM:+0100
TZOFFSETTO:+0200
TZNAME:CEST
DTSTART:20260329T010000
END:DAYLIGHT
BEGIN:STANDARD
TZOFFSETFROM:+0200
TZOFFSETTO:+0100
TZNAME:CET
DTSTART:20261025T010000
END:STANDARD
END:VTIMEZONE
BEGIN:VEVENT
DTSTART;VALUE=DATE:20260302
DTEND;VALUE=DATE:20260303
DTSTAMP:20260421T233828
CREATED:20251010T084505Z
LAST-MODIFIED:20260127T093402Z
UID:3112-1772409600-1772495999@gsbiberach.de
SUMMARY:Anmeldetag Schulanfänger 2026/2027
DESCRIPTION:
URL:https://gsbiberach.de/kalender/anmeldetage-schulanfaenger-2026-2027/
END:VEVENT
BEGIN:VEVENT
DTSTART;VALUE=DATE:20260303
DTEND;VALUE=DATE:20260304
DTSTAMP:20260421T233828
CREATED:20260127T093421Z
LAST-MODIFIED:20260127T093421Z
UID:3413-1772496000-1772582399@gsbiberach.de
SUMMARY:Anmeldetag Schulanfänger 2026/2027
DESCRIPTION:
URL:https://gsbiberach.de/kalender/anmeldetag-schulanfaenger-2026-2027/
END:VEVENT
BEGIN:VEVENT
DTSTART;VALUE=DATE:20260309
DTEND;VALUE=DATE:20260310
DTSTAMP:20260421T233828
CREATED:20260127T093304Z
LAST-MODIFIED:20260127T093449Z
UID:3410-1773014400-1773100799@gsbiberach.de
SUMMARY:Anmeldetag Schulanfänger 2026/2027
DESCRIPTION:
URL:https://gsbiberach.de/kalender/anmeldetage-schulanfaenger-2026-2027-2/
END:VEVENT
BEGIN:VEVENT
DTSTART;VALUE=DATE:20260310
DTEND;VALUE=DATE:20260311
DTSTAMP:20260421T233828
CREATED:20251015T071511Z
LAST-MODIFIED:20251015T071511Z
UID:3137-1773100800-1773187199@gsbiberach.de
SUMMARY:Pausenfrühstück Kl. 3a
DESCRIPTION:
URL:https://gsbiberach.de/kalender/pausenfruehstueck-kl-3a-2/
END:VEVENT
BEGIN:VEVENT
DTSTART;TZID=Europe/Berlin:20260310T074500
DTEND;TZID=Europe/Berlin:20260310T083000
DTSTAMP:20260421T233828
CREATED:20251001T082230Z
LAST-MODIFIED:20251001T082230Z
UID:3059-1773128700-1773131400@gsbiberach.de
SUMMARY:Schülergottesdienst
DESCRIPTION:
URL:https://gsbiberach.de/kalender/schuelergottesdienst-47/
END:VEVENT
BEGIN:VEVENT
DTSTART;TZID=Europe/Berlin:20260310T090000
DTEND;TZID=Europe/Berlin:20260310T120000
DTSTAMP:20260421T233828
CREATED:20260306T062710Z
LAST-MODIFIED:20260306T080025Z
UID:3453-1773133200-1773144000@gsbiberach.de
SUMMARY:Lerngang Schwarzwälder Post Zell a. H. Kl. 2b
DESCRIPTION:
URL:https://gsbiberach.de/kalender/lerngang-schwarzwaelder-post-zell-a-h-kl-2b/
END:VEVENT
BEGIN:VEVENT
DTSTART;TZID=Europe/Berlin:20260311T183000
DTEND;TZID=Europe/Berlin:20260311T200000
DTSTAMP:20260421T233828
CREATED:20260120T063037Z
LAST-MODIFIED:20260128T064027Z
UID:3344-1773253800-1773259200@gsbiberach.de
SUMMARY:Klassenpflegschaftsabend K. 3a
DESCRIPTION:
URL:https://gsbiberach.de/kalender/elternabend-klasse-3a/
END:VEVENT
BEGIN:VEVENT
DTSTART;TZID=Europe/Berlin:20260311T190000
DTEND;TZID=Europe/Berlin:20260311T203000
DTSTAMP:20260421T233828
CREATED:20260126T094833Z
LAST-MODIFIED:20260128T064033Z
UID:3400-1773255600-1773261000@gsbiberach.de
SUMMARY:Klassenpflegschaftsabend Kl. 3b
DESCRIPTION:
URL:https://gsbiberach.de/kalender/elternabend-kl-3b-3/
END:VEVENT
BEGIN:VEVENT
DTSTART;TZID=Europe/Berlin:20260311T193000
DTEND;TZID=Europe/Berlin:20260311T210000
DTSTAMP:20260421T233828
CREATED:20260130T062349Z
LAST-MODIFIED:20260203T071254Z
UID:3426-1773257400-1773262800@gsbiberach.de
SUMMARY:Klassenpflegschaftsabend Kl. 4b
DESCRIPTION:
URL:https://gsbiberach.de/kalender/klassenpflegschaftsabend-kl-4b/
END:VEVENT
BEGIN:VEVENT
DTSTART;TZID=Europe/Berlin:20260312T183000
DTEND;TZID=Europe/Berlin:20260312T193000
DTSTAMP:20260421T233828
CREATED:20260113T065115Z
LAST-MODIFIED:20260128T064013Z
UID:3293-1773340200-1773343800@gsbiberach.de
SUMMARY:Klassenpflegschaftsabend Kl. 2a
DESCRIPTION:
URL:https://gsbiberach.de/kalender/elternabend-klasse-2a/
END:VEVENT
BEGIN:VEVENT
DTSTART;TZID=Europe/Berlin:20260313T160000
DTEND;TZID=Europe/Berlin:20260313T200000
DTSTAMP:20260421T233828
CREATED:20251106T062958Z
LAST-MODIFIED:20251106T062958Z
UID:3172-1773417600-1773432000@gsbiberach.de
SUMMARY:Klassenfest Kl. 1a
DESCRIPTION:
URL:https://gsbiberach.de/kalender/klassenfest-kl-1a-3/
END:VEVENT
BEGIN:VEVENT
DTSTART;VALUE=DATE:20260323
DTEND;VALUE=DATE:20260324
DTSTAMP:20260421T233828
CREATED:20251016T055639Z
LAST-MODIFIED:20251016T055639Z
UID:3145-1774224000-1774310399@gsbiberach.de
SUMMARY:Besuch von Eckbolsheim Kl. 4b
DESCRIPTION:
URL:https://gsbiberach.de/kalender/besuch-von-eckbolsheim-kl-4b/
END:VEVENT
BEGIN:VEVENT
DTSTART;TZID=Europe/Berlin:20260324T074500
DTEND;TZID=Europe/Berlin:20260324T083000
DTSTAMP:20260421T233828
CREATED:20251001T082501Z
LAST-MODIFIED:20251001T082501Z
UID:3064-1774338300-1774341000@gsbiberach.de
SUMMARY:Schülergottesdienst
DESCRIPTION:
URL:https://gsbiberach.de/kalender/schuelergottesdienst-48/
END:VEVENT
BEGIN:VEVENT
DTSTART;TZID=Europe/Berlin:20260325T083500
DTEND;TZID=Europe/Berlin:20260325T100500
DTSTAMP:20260421T233828
CREATED:20260128T070901Z
LAST-MODIFIED:20260128T070901Z
UID:3424-1774427700-1774433100@gsbiberach.de
SUMMARY:Kreisputzete (für alle Klassen)
DESCRIPTION:
URL:https://gsbiberach.de/kalender/kreisputzete-fuer-alle-klassen-2/
END:VEVENT
BEGIN:VEVENT
DTSTART;TZID=Europe/Berlin:20260325T180000
DTEND;TZID=Europe/Berlin:20260325T190000
DTSTAMP:20260421T233828
CREATED:20260311T092805Z
LAST-MODIFIED:20260311T103142Z
UID:3460-1774461600-1774465200@gsbiberach.de
SUMMARY:Klassenpflegschaftsabend Kl. 4a
DESCRIPTION:
URL:https://gsbiberach.de/kalender/klassenpflegschaftsabend-kl-4a/
END:VEVENT
BEGIN:VEVENT
DTSTART;VALUE=DATE:20260326
DTEND;VALUE=DATE:20260327
DTSTAMP:20260421T233828
CREATED:20251016T055659Z
LAST-MODIFIED:20251016T055659Z
UID:3147-1774483200-1774569599@gsbiberach.de
SUMMARY:Besuch von Eckbolsheim Kl. 4a
DESCRIPTION:
URL:https://gsbiberach.de/kalender/besuch-von-eckbolsheim-kl-4a/
END:VEVENT
BEGIN:VEVENT
DTSTART;VALUE=DATE:20260330
DTEND;VALUE=DATE:20260411
DTSTAMP:20260421T233828
CREATED:20251010T081426Z
LAST-MODIFIED:20251010T081426Z
UID:3091-1774828800-1775865599@gsbiberach.de
SUMMARY:Osterferien
DESCRIPTION:
URL:https://gsbiberach.de/kalender/osterferien-4/
END:VEVENT
END:VCALENDAR