BEGIN:VCALENDAR
VERSION:2.0
PRODID:-//Grundschule Biberach - ECPv6.10.0//NONSGML v1.0//EN
CALSCALE:GREGORIAN
METHOD:PUBLISH
X-ORIGINAL-URL:https://gsbiberach.de
X-WR-CALDESC:Veranstaltungen für Grundschule Biberach
REFRESH-INTERVAL;VALUE=DURATION:PT1H
X-Robots-Tag:noindex
X-PUBLISHED-TTL:PT1H
BEGIN:VTIMEZONE
TZID:Europe/Berlin
BEGIN:DAYLIGHT
TZOFFSETFROM:+0100
TZOFFSETTO:+0200
TZNAME:CEST
DTSTART:20250330T010000
END:DAYLIGHT
BEGIN:STANDARD
TZOFFSETFROM:+0200
TZOFFSETTO:+0100
TZNAME:CET
DTSTART:20251026T010000
END:STANDARD
END:VTIMEZONE
BEGIN:VEVENT
DTSTART;TZID=Europe/Berlin:20251104T074500
DTEND;TZID=Europe/Berlin:20251104T083000
DTSTAMP:20260425T133829
CREATED:20251001T080433Z
LAST-MODIFIED:20251001T080433Z
UID:3043-1762242300-1762245000@gsbiberach.de
SUMMARY:Schülergottesdienst
DESCRIPTION:
URL:https://gsbiberach.de/kalender/schuelergottesdienst-39/
END:VEVENT
BEGIN:VEVENT
DTSTART;VALUE=DATE:20251107
DTEND;VALUE=DATE:20251108
DTSTAMP:20260425T133829
CREATED:20251017T063500Z
LAST-MODIFIED:20251017T063500Z
UID:3158-1762473600-1762559999@gsbiberach.de
SUMMARY:Gemeinschaftstag für alle Klassen
DESCRIPTION:
URL:https://gsbiberach.de/kalender/gemeinschaftstag-fuer-alle-klassen-2/
END:VEVENT
BEGIN:VEVENT
DTSTART;TZID=Europe/Berlin:20251112T183000
DTEND;TZID=Europe/Berlin:20251112T200000
DTSTAMP:20260425T133829
CREATED:20250707T053604Z
LAST-MODIFIED:20250707T053947Z
UID:2961-1762972200-1762977600@gsbiberach.de
SUMMARY:Info 4 Veranstaltung Ritter von Buss Schule Zell a.H.
DESCRIPTION:Veranstaltungsort: Mensa Ritter von Buss Schule
URL:https://gsbiberach.de/kalender/info-4-veranstaltung-ritter-von-buss-schule-zell-a-h/
END:VEVENT
BEGIN:VEVENT
DTSTART;TZID=Europe/Berlin:20251113T083500
DTEND;TZID=Europe/Berlin:20251113T110000
DTSTAMP:20260425T133829
CREATED:20251017T063941Z
LAST-MODIFIED:20251017T063941Z
UID:3160-1763022900-1763031600@gsbiberach.de
SUMMARY:Waldtag mit Waldmobil Kl. 2a+b
DESCRIPTION:
URL:https://gsbiberach.de/kalender/waldtag-mit-waldmobil-kl-2ab/
END:VEVENT
BEGIN:VEVENT
DTSTART;TZID=Europe/Berlin:20251118T074500
DTEND;TZID=Europe/Berlin:20251118T083000
DTSTAMP:20260425T133829
CREATED:20251001T080457Z
LAST-MODIFIED:20251001T081934Z
UID:3045-1763451900-1763454600@gsbiberach.de
SUMMARY:Schülergottesdienst
DESCRIPTION:
URL:https://gsbiberach.de/kalender/schuelergottesdienst-40/
END:VEVENT
BEGIN:VEVENT
DTSTART;VALUE=DATE:20251130
DTEND;VALUE=DATE:20251201
DTSTAMP:20260425T133829
CREATED:20251010T083911Z
LAST-MODIFIED:20251103T065938Z
UID:3104-1764460800-1764547199@gsbiberach.de
SUMMARY:Stand Elternbeirat Weihnachtsmarkt Biberach
DESCRIPTION:
URL:https://gsbiberach.de/kalender/stand-elternbeirat-weihnachtsmarkt-biberach-2/
END:VEVENT
END:VCALENDAR