BEGIN:VCALENDAR
VERSION:2.0
PRODID:-//Grundschule Biberach - ECPv6.10.0//NONSGML v1.0//EN
CALSCALE:GREGORIAN
METHOD:PUBLISH
X-WR-CALNAME:Grundschule Biberach
X-ORIGINAL-URL:https://gsbiberach.de
X-WR-CALDESC:Veranstaltungen für Grundschule Biberach
REFRESH-INTERVAL;VALUE=DURATION:PT1H
X-Robots-Tag:noindex
X-PUBLISHED-TTL:PT1H
BEGIN:VTIMEZONE
TZID:Europe/Berlin
BEGIN:DAYLIGHT
TZOFFSETFROM:+0100
TZOFFSETTO:+0200
TZNAME:CEST
DTSTART:20260329T010000
END:DAYLIGHT
BEGIN:STANDARD
TZOFFSETFROM:+0200
TZOFFSETTO:+0100
TZNAME:CET
DTSTART:20261025T010000
END:STANDARD
END:VTIMEZONE
BEGIN:VEVENT
DTSTART;TZID=Europe/Berlin:20260717T160000
DTEND;TZID=Europe/Berlin:20260717T193000
DTSTAMP:20260421T233329
CREATED:20260318T081555Z
LAST-MODIFIED:20260318T081555Z
UID:3463-1784304000-1784316600@gsbiberach.de
SUMMARY:Klassenfest Klasse 2a
DESCRIPTION:
URL:https://gsbiberach.de/kalender/klassenfest-klasse-2a/
END:VEVENT
BEGIN:VEVENT
DTSTART;VALUE=DATE:20260720
DTEND;VALUE=DATE:20260721
DTSTAMP:20260421T233329
CREATED:20251010T085322Z
LAST-MODIFIED:20251010T085322Z
UID:3123-1784505600-1784591999@gsbiberach.de
SUMMARY:Lesewettbewerb
DESCRIPTION:
URL:https://gsbiberach.de/kalender/lesewettbewerb-2/
END:VEVENT
BEGIN:VEVENT
DTSTART;TZID=Europe/Berlin:20260724T160000
DTEND;TZID=Europe/Berlin:20260724T190000
DTSTAMP:20260421T233329
CREATED:20251009T081532Z
LAST-MODIFIED:20260113T090058Z
UID:3083-1784908800-1784919600@gsbiberach.de
SUMMARY:Abschlussklassenfest Kl. 4a und 4b
DESCRIPTION:
URL:https://gsbiberach.de/kalender/abschlussklassenfest-kl-4b/
END:VEVENT
BEGIN:VEVENT
DTSTART;TZID=Europe/Berlin:20260728T074500
DTEND;TZID=Europe/Berlin:20260728T083000
DTSTAMP:20260421T233329
CREATED:20251001T082949Z
LAST-MODIFIED:20251001T082949Z
UID:3078-1785224700-1785227400@gsbiberach.de
SUMMARY:Schülergottesdienst
DESCRIPTION:
URL:https://gsbiberach.de/kalender/schuelergottesdienst-55/
END:VEVENT
BEGIN:VEVENT
DTSTART;VALUE=DATE:20260730
DTEND;VALUE=DATE:20260912
DTSTAMP:20260421T233329
CREATED:20251010T081458Z
LAST-MODIFIED:20251010T081524Z
UID:3093-1785369600-1789171199@gsbiberach.de
SUMMARY:Sommerferien
DESCRIPTION:
URL:https://gsbiberach.de/kalender/pfingstferien-4/
END:VEVENT
BEGIN:VEVENT
DTSTART;VALUE=DATE:20260918
DTEND;VALUE=DATE:20260919
DTSTAMP:20260421T233329
CREATED:20250925T135745Z
LAST-MODIFIED:20250925T135745Z
UID:3035-1789689600-1789775999@gsbiberach.de
SUMMARY:Fototermin Einschüler 2026/2027
DESCRIPTION:
URL:https://gsbiberach.de/kalender/fototermin-einschueler-2026-2027/
END:VEVENT
BEGIN:VEVENT
DTSTART;TZID=Europe/Berlin:20261014T080000
DTEND;TZID=Europe/Berlin:20261016T121500
DTSTAMP:20260421T233329
CREATED:20260413T074252Z
LAST-MODIFIED:20260413T074252Z
UID:3492-1791964800-1792152900@gsbiberach.de
SUMMARY:Landschulheim Langenhard Kl. 4b
DESCRIPTION:
URL:https://gsbiberach.de/kalender/landschulheim-langenhard-kl-4b/
END:VEVENT
END:VCALENDAR