BEGIN:VCALENDAR
VERSION:2.0
PRODID:-//Grundschule Biberach - ECPv6.10.0//NONSGML v1.0//EN
CALSCALE:GREGORIAN
METHOD:PUBLISH
X-WR-CALNAME:Grundschule Biberach
X-ORIGINAL-URL:https://gsbiberach.de
X-WR-CALDESC:Veranstaltungen für Grundschule Biberach
REFRESH-INTERVAL;VALUE=DURATION:PT1H
X-Robots-Tag:noindex
X-PUBLISHED-TTL:PT1H
BEGIN:VTIMEZONE
TZID:Europe/Berlin
BEGIN:DAYLIGHT
TZOFFSETFROM:+0100
TZOFFSETTO:+0200
TZNAME:CEST
DTSTART:20260329T010000
END:DAYLIGHT
BEGIN:STANDARD
TZOFFSETFROM:+0200
TZOFFSETTO:+0100
TZNAME:CET
DTSTART:20261025T010000
END:STANDARD
END:VTIMEZONE
BEGIN:VEVENT
DTSTART;VALUE=DATE:20260421
DTEND;VALUE=DATE:20260422
DTSTAMP:20260421T200820
CREATED:20251015T071539Z
LAST-MODIFIED:20251015T071539Z
UID:3139-1776729600-1776815999@gsbiberach.de
SUMMARY:Pausenfrühstück Kl. 4b
DESCRIPTION:
URL:https://gsbiberach.de/kalender/pausenfruehstueck-kl-4b-2/
END:VEVENT
BEGIN:VEVENT
DTSTART;TZID=Europe/Berlin:20260421T074500
DTEND;TZID=Europe/Berlin:20260421T083000
DTSTAMP:20260421T200820
CREATED:20251001T082534Z
LAST-MODIFIED:20251001T082534Z
UID:3066-1776757500-1776760200@gsbiberach.de
SUMMARY:Schülergottesdienst
DESCRIPTION:
URL:https://gsbiberach.de/kalender/schuelergottesdienst-49/
END:VEVENT
BEGIN:VEVENT
DTSTART;TZID=Europe/Berlin:20260421T180000
DTEND;TZID=Europe/Berlin:20260421T200000
DTSTAMP:20260421T200820
CREATED:20260127T064952Z
LAST-MODIFIED:20260128T064044Z
UID:3402-1776794400-1776801600@gsbiberach.de
SUMMARY:Klassenpflegschaftsabend Kl. 2b
DESCRIPTION:
URL:https://gsbiberach.de/kalender/elternabend-kl-2b-3/
END:VEVENT
END:VCALENDAR