BEGIN:VCALENDAR
VERSION:2.0
PRODID:-//Grundschule Biberach - ECPv6.10.0//NONSGML v1.0//EN
CALSCALE:GREGORIAN
METHOD:PUBLISH
X-WR-CALNAME:Grundschule Biberach
X-ORIGINAL-URL:https://gsbiberach.de
X-WR-CALDESC:Veranstaltungen für Grundschule Biberach
REFRESH-INTERVAL;VALUE=DURATION:PT1H
X-Robots-Tag:noindex
X-PUBLISHED-TTL:PT1H
BEGIN:VTIMEZONE
TZID:Europe/Berlin
BEGIN:DAYLIGHT
TZOFFSETFROM:+0100
TZOFFSETTO:+0200
TZNAME:CEST
DTSTART:20250330T010000
END:DAYLIGHT
BEGIN:STANDARD
TZOFFSETFROM:+0200
TZOFFSETTO:+0100
TZNAME:CET
DTSTART:20251026T010000
END:STANDARD
END:VTIMEZONE
BEGIN:VEVENT
DTSTART;TZID=Europe/Berlin:20251112T183000
DTEND;TZID=Europe/Berlin:20251112T200000
DTSTAMP:20260425T173455
CREATED:20250707T053604Z
LAST-MODIFIED:20250707T053947Z
UID:2961-1762972200-1762977600@gsbiberach.de
SUMMARY:Info 4 Veranstaltung Ritter von Buss Schule Zell a.H.
DESCRIPTION:Veranstaltungsort: Mensa Ritter von Buss Schule
URL:https://gsbiberach.de/kalender/info-4-veranstaltung-ritter-von-buss-schule-zell-a-h/
END:VEVENT
END:VCALENDAR